BEGIN:VCALENDAR
VERSION:2.0
PRODID:-//America250AL - ECPv6.15.20//NONSGML v1.0//EN
CALSCALE:GREGORIAN
METHOD:PUBLISH
X-WR-CALNAME:America250AL
X-ORIGINAL-URL:https://america250al.org
X-WR-CALDESC:Events for America250AL
REFRESH-INTERVAL;VALUE=DURATION:PT1H
X-Robots-Tag:noindex
X-PUBLISHED-TTL:PT1H
BEGIN:VTIMEZONE
TZID:America/Chicago
BEGIN:DAYLIGHT
TZOFFSETFROM:-0600
TZOFFSETTO:-0500
TZNAME:CDT
DTSTART:20240310T080000
END:DAYLIGHT
BEGIN:STANDARD
TZOFFSETFROM:-0500
TZOFFSETTO:-0600
TZNAME:CST
DTSTART:20241103T070000
END:STANDARD
BEGIN:DAYLIGHT
TZOFFSETFROM:-0600
TZOFFSETTO:-0500
TZNAME:CDT
DTSTART:20250309T080000
END:DAYLIGHT
BEGIN:STANDARD
TZOFFSETFROM:-0500
TZOFFSETTO:-0600
TZNAME:CST
DTSTART:20251102T070000
END:STANDARD
BEGIN:DAYLIGHT
TZOFFSETFROM:-0600
TZOFFSETTO:-0500
TZNAME:CDT
DTSTART:20260308T080000
END:DAYLIGHT
BEGIN:STANDARD
TZOFFSETFROM:-0500
TZOFFSETTO:-0600
TZNAME:CST
DTSTART:20261101T070000
END:STANDARD
END:VTIMEZONE
BEGIN:VEVENT
DTSTART;TZID=America/Chicago:20251214T143000
DTEND;TZID=America/Chicago:20251214T163000
DTSTAMP:20260424T035657
CREATED:20250627T181336Z
LAST-MODIFIED:20250627T213054Z
UID:4292-1765722600-1765729800@america250al.org
SUMMARY:18th Century Christmas
DESCRIPTION:Celebrate the season with a lovely 18th century Christmas program\, presented by the Elmore County Historical Society\, Elmore County 250’s anchor organization. It will be held on Sunday\, December 14 at 2:30 p.m. at the Elmore County Museum at 112 S Main\, Wetumpka\, AL 36092.
URL:https://america250al.org/event/christmas-program/
LOCATION:Elmore County Museum\, 112 S Main\, Wetumpka\, 36092\, United States
CATEGORIES:Elmore County
ATTACH;FMTTYPE=image/jpeg:https://america250al.org/wp-content/uploads/2025/06/images.jpg
ORGANIZER;CN="Sharon Fox":MAILTO:elmorecountymuseum@gmail.com
END:VEVENT
END:VCALENDAR