BEGIN:VCALENDAR
VERSION:2.0
PRODID:-//America250AL - ECPv6.15.20//NONSGML v1.0//EN
CALSCALE:GREGORIAN
METHOD:PUBLISH
X-ORIGINAL-URL:https://america250al.org
X-WR-CALDESC:Events for America250AL
REFRESH-INTERVAL;VALUE=DURATION:PT1H
X-Robots-Tag:noindex
X-PUBLISHED-TTL:PT1H
BEGIN:VTIMEZONE
TZID:America/Chicago
BEGIN:DAYLIGHT
TZOFFSETFROM:-0600
TZOFFSETTO:-0500
TZNAME:CDT
DTSTART:20250309T080000
END:DAYLIGHT
BEGIN:STANDARD
TZOFFSETFROM:-0500
TZOFFSETTO:-0600
TZNAME:CST
DTSTART:20251102T070000
END:STANDARD
BEGIN:DAYLIGHT
TZOFFSETFROM:-0600
TZOFFSETTO:-0500
TZNAME:CDT
DTSTART:20260308T080000
END:DAYLIGHT
BEGIN:STANDARD
TZOFFSETFROM:-0500
TZOFFSETTO:-0600
TZNAME:CST
DTSTART:20261101T070000
END:STANDARD
BEGIN:DAYLIGHT
TZOFFSETFROM:-0600
TZOFFSETTO:-0500
TZNAME:CDT
DTSTART:20270314T080000
END:DAYLIGHT
BEGIN:STANDARD
TZOFFSETFROM:-0500
TZOFFSETTO:-0600
TZNAME:CST
DTSTART:20271107T070000
END:STANDARD
END:VTIMEZONE
BEGIN:VEVENT
DTSTART;TZID=America/Chicago:20260121T000000
DTEND;TZID=America/Chicago:20261231T235959
DTSTAMP:20260424T022747
CREATED:20260121T171821Z
LAST-MODIFIED:20260129T151616Z
UID:5233-1768953600-1798761599@america250al.org
SUMMARY:Finding the Lost Patriots of Madison County *ONGOING*
DESCRIPTION:This is an ongoing project for 2026. Finding the Lost Patriots of Madison County continues the work of the patriotic citizens that have gone before us who have identified and marked Patriot burial sites. Our goal is to identify and properly mark the final resting places of the Patriots that lived and died in Madison County\, Alabama.
URL:https://america250al.org/event/finding-the-lost-patriots-of-madison-county/
CATEGORIES:Madison County
ATTACH;FMTTYPE=image/jpeg:https://america250al.org/wp-content/uploads/2026/01/Headstone-scaled.jpg
END:VEVENT
BEGIN:VEVENT
DTSTART;TZID=America/Chicago:20260124T000000
DTEND;TZID=America/Chicago:20260125T235959
DTSTAMP:20260424T022747
CREATED:20260116T173131Z
LAST-MODIFIED:20260116T173133Z
UID:5202-1769212800-1769385599@america250al.org
SUMMARY:Greenville Camellia Show
DESCRIPTION:The Greenville Camellia Society will be kicking off 2026 with a special event honoring the history and heritage of “The Camellia City.” Make plans now to attend the Third Annual Greenville Camellia Show on Saturday\, January 24th and Sunday\, January 25th from 1- 4 PM. \n\n\n\nCome to the LBW Community College Campus in historic Greenville\, Alabama and see the magnificent displays of beautiful camellia blooms. Many varieties of camellia plants will also be for sale. The Camellia Show is one of the most exciting events held in Greenville drawing thousands of visitors each year. Admission is free. \n\n\n\nThe public is invited to enter camellia flowers from their own gardens. It’s easy – just bring your blooms to LBW on Saturday\, January 24th from 8 – 10 AM. Compete for top honors and win cash prizes and ribbons! It’s a once in a year event and not to be missed. You’re guaranteed to be amazed! \n\n\n\nThe Greenville Camellia Society is proud to have the support of the Poarch Creek Indians as a major sponsor of the 2026 Greenville Camellia Show.
URL:https://america250al.org/event/greenville-camellia-show/
LOCATION:LBW Community College Campus\, 750 Greenville Bypass #1 # A\, Greenville\, 36037\, United States
CATEGORIES:Butler County
ATTACH;FMTTYPE=image/png:https://america250al.org/wp-content/uploads/2026/01/GCS-Show-Ad-3fe1b2f5106bd075b082e9410240d8eb.png
END:VEVENT
BEGIN:VEVENT
DTSTART;TZID=America/Chicago:20260124T000000
DTEND;TZID=America/Chicago:20260125T235959
DTSTAMP:20260424T022747
CREATED:20260116T173340Z
LAST-MODIFIED:20260116T173342Z
UID:5207-1769212800-1769385599@america250al.org
SUMMARY:2026 Artisans Market
DESCRIPTION:Join us in historic Greenville\, Alabama\, on Saturday\, January 24th\, and Sunday\, January 25th\, for the Greenville Camellia Society’s 2026 Artisans Market. The event will be held at the Beeland Park Community Center each day from 10:00 – 4:00. Artisans will have an amazing variety of crafts and unique one-of-a kind items for sale. There will be something for everyone including guest speakers and exhibits. \n\n\n\nThe Greenville Camellia Society is proud to have the support of the Alabama State Council on the Arts for the 2026 Artisans Market. Make plans now to join us for this wonderful celebration of art and community!
URL:https://america250al.org/event/2026-artisans-market/
CATEGORIES:Butler County
ATTACH;FMTTYPE=image/jpeg:https://america250al.org/wp-content/uploads/2026/01/Artisans-Ad-3fe1b2f5106bd075b082e9410240d8eb.jpg
END:VEVENT
END:VCALENDAR