BEGIN:VCALENDAR
VERSION:2.0
PRODID:-//America250AL - ECPv6.15.20//NONSGML v1.0//EN
CALSCALE:GREGORIAN
METHOD:PUBLISH
X-WR-CALNAME:America250AL
X-ORIGINAL-URL:https://america250al.org
X-WR-CALDESC:Events for America250AL
REFRESH-INTERVAL;VALUE=DURATION:PT1H
X-Robots-Tag:noindex
X-PUBLISHED-TTL:PT1H
BEGIN:VTIMEZONE
TZID:America/Chicago
BEGIN:DAYLIGHT
TZOFFSETFROM:-0600
TZOFFSETTO:-0500
TZNAME:CDT
DTSTART:20250309T080000
END:DAYLIGHT
BEGIN:STANDARD
TZOFFSETFROM:-0500
TZOFFSETTO:-0600
TZNAME:CST
DTSTART:20251102T070000
END:STANDARD
BEGIN:DAYLIGHT
TZOFFSETFROM:-0600
TZOFFSETTO:-0500
TZNAME:CDT
DTSTART:20260308T080000
END:DAYLIGHT
BEGIN:STANDARD
TZOFFSETFROM:-0500
TZOFFSETTO:-0600
TZNAME:CST
DTSTART:20261101T070000
END:STANDARD
BEGIN:DAYLIGHT
TZOFFSETFROM:-0600
TZOFFSETTO:-0500
TZNAME:CDT
DTSTART:20270314T080000
END:DAYLIGHT
BEGIN:STANDARD
TZOFFSETFROM:-0500
TZOFFSETTO:-0600
TZNAME:CST
DTSTART:20271107T070000
END:STANDARD
BEGIN:DAYLIGHT
TZOFFSETFROM:-0600
TZOFFSETTO:-0500
TZNAME:CDT
DTSTART:20280312T080000
END:DAYLIGHT
BEGIN:STANDARD
TZOFFSETFROM:-0500
TZOFFSETTO:-0600
TZNAME:CST
DTSTART:20281105T070000
END:STANDARD
END:VTIMEZONE
BEGIN:VEVENT
DTSTART;TZID=America/Chicago:20260121T000000
DTEND;TZID=America/Chicago:20261231T235959
DTSTAMP:20260423T233344
CREATED:20260121T171821Z
LAST-MODIFIED:20260129T151616Z
UID:5233-1768953600-1798761599@america250al.org
SUMMARY:Finding the Lost Patriots of Madison County *ONGOING*
DESCRIPTION:This is an ongoing project for 2026. Finding the Lost Patriots of Madison County continues the work of the patriotic citizens that have gone before us who have identified and marked Patriot burial sites. Our goal is to identify and properly mark the final resting places of the Patriots that lived and died in Madison County\, Alabama.
URL:https://america250al.org/event/finding-the-lost-patriots-of-madison-county/
CATEGORIES:Madison County
ATTACH;FMTTYPE=image/jpeg:https://america250al.org/wp-content/uploads/2026/01/Headstone-scaled.jpg
END:VEVENT
BEGIN:VEVENT
DTSTART;TZID=America/Chicago:20260130T000000
DTEND;TZID=America/Chicago:20270110T235959
DTSTAMP:20260423T233344
CREATED:20260127T194522Z
LAST-MODIFIED:20260127T194525Z
UID:5288-1769731200-1799625599@america250al.org
SUMMARY:Revolutionary Roots: Celebrating Alabama’s Unique History and Natural Beauty
DESCRIPTION:Experience Vulcan Park & Museum’s 2026 exhibition\, Revolutionary Roots: Celebrating Alabama’s Unique History and Natural Beauty\, presented in honor of the United States’ 250th anniversary as part of America250.
URL:https://america250al.org/event/revolutionary-roots-celebrating-alabamas-unique-history-and-natural-beauty/
CATEGORIES:Jefferson County
ATTACH;FMTTYPE=image/jpeg:https://america250al.org/wp-content/uploads/2026/01/Revolutionary-Roots-Celebrating-Alabamas-Unique-History-and-Natural-Beauty.jpg
END:VEVENT
BEGIN:VEVENT
DTSTART;TZID=America/Chicago:20260224T000000
DTEND;TZID=America/Chicago:20260828T235959
DTSTAMP:20260423T233344
CREATED:20260224T142321Z
LAST-MODIFIED:20260224T142323Z
UID:5561-1771891200-1787961599@america250al.org
SUMMARY:"Landmarks & Legacies" Photo Contest
DESCRIPTION:The Muscle Shoals National Heritage Area has opened its annual photo contest after a two-year hiatus – and there are new twists.“We’ve had so many great entries in past years that we wanted to offer our local photographers something new\,” said MSNHA Program Director Jessie Johnson. “We hope these changes— adding the theme ‘Landmarks & Legacies\,’ emphasizing creativity and giving photographers a long window of opportunity — will get our entrants excited about going in a different direction. We’re especially delighted to connect this year’s photo contest with America250\, the initiative to celebrate and commemorate America’s Semiquincentennial.”In addition\, winning and other selected submissions will be featured in an exhibit co-hosted by Florence Arts and Museums\, Oct. 12-Nov. 13.Entries can be submitted digitally at MSNHA’s website\, https://msnha.una.edu/. Deadline is Friday\, Aug. 28. Photos must be taken within the past 18 months in one of MSNHA’s six counties (Colbert\, Franklin\, Lauderdale\, Lawrence\, Limestone and Morgan). Guidelines and the submission form are at https://msnha.una.edu/.“We wanted our theme to be dynamic and flexible enough to inspire creativity. We also wanted to help entrants share their stories of meaningful places and people\,” Johnson said. “Even though Alabama was not a state 250 years ago when the Declaration of Independence was signed\, we hope our entrants can capture the spirit of America’s beginnings through this year’s ‘Landmarks and Legacy’ theme. We can’t wait to see the results!”Questions? Email msnha@una.edu.
URL:https://america250al.org/event/landmarks-legacies-photo-contest/
CATEGORIES:Colbert County,Franklin County,Lauderdale County,Lawrence County,Limestone County,Morgan County
ATTACH;FMTTYPE=image/png:https://america250al.org/wp-content/uploads/2026/02/Landmarks-Legacies-Photo-Contest-Banner.png
END:VEVENT
BEGIN:VEVENT
DTSTART;TZID=America/Chicago:20260224T000000
DTEND;TZID=America/Chicago:20261231T235959
DTSTAMP:20260423T233345
CREATED:20260224T142848Z
LAST-MODIFIED:20260224T142851Z
UID:5564-1771891200-1798761599@america250al.org
SUMMARY:2026 Walking Tour Series *Dates in Event Details*
DESCRIPTION:Join a local guide and experience the charm of Historic Mooresville on themed historical walking tours throughout the year\, combining rich history with a leisurely stroll down our scenic\, tree-lined streets. \n\n\n\nMarch 7th – Behind the Scenes of Disney’s Tom and Huck \n\n\n\nApril 4th\, 11th\, 18th\, & 25th – Alabama Department of Tourism Saturdays in April Walking Tours\n\n\n\nMay 2nd – Hidden Spaces Garden Tour  \n\n\n\nJune 6th – Hidden Spaces Garden Tour\n\n\n\nAugust 1st – Mooresville During the Civil War – Info & ticket Sells \n\n\n\nSeptember 5th – Behind the Scenes of Disney’s Tom and Huck\n\n\n\nOctober 3rd – The Darker Side – Info & Ticket sells Coming Soon\n\n\n\nNovember 7th – Junior Historian Tour\n\n\n\nDecember 12th – Holiday Traditions – Ticket sells Coming Soon
URL:https://america250al.org/event/2026-walking-tour-series-dates-in-event-details/
CATEGORIES:Limestone County
END:VEVENT
BEGIN:VEVENT
DTSTART;TZID=America/Chicago:20260314T000000
DTEND;TZID=America/Chicago:20260907T235959
DTSTAMP:20260423T233345
CREATED:20260407T135915Z
LAST-MODIFIED:20260407T135917Z
UID:5962-1773446400-1788825599@america250al.org
SUMMARY:We the People (Ongoing through Sept. 7th)
DESCRIPTION:We the People \n\n\n\nGet ready to travel back in time! In honor of America’s 250th birthday\, Burritt on the Mountain is turning history into hands-on fun for the whole family. \n\n\n\nStep into the Past-Wander through real 19th-century houses that families lived in long ago! Each one has amazing stories waiting for you to discover. \n\n\n\nPlay\, Create\, and Explore-Kids\, ages 4–12\, can jump into exciting activities:• Old-fashioned games that let you play like children in the 1800s• Heritage crafts and skills that let you see what it was like to make things for your family and home before modern conveniences• Panning for gemstones and fool’s gold at the sluice like the prospectors did during the Alabama gold rush of 1829.• Searching for the answers to the We the People scavenger hunt \n\n\n\nLearn Your Way-At each stop\, find a few fun facts about the families that lived in the houses located in our historic park. Their stories are typical of the 250 years of America’s history. It’s a day packed with discovery — celebrating the people\, places\, and moments that shaped our nation. Don’t miss this chance to make history come alive!
URL:https://america250al.org/event/we-the-people-ongoing-through-sept-7th/
LOCATION:Burritt on the Mountain\, 3101 Burritt Dr.\, Huntsville\, 35801\, United States
CATEGORIES:Madison County
END:VEVENT
BEGIN:VEVENT
DTSTART;TZID=America/Chicago:20260601T000000
DTEND;TZID=America/Chicago:20260630T235959
DTSTAMP:20260423T233345
CREATED:20260305T164938Z
LAST-MODIFIED:20260305T164941Z
UID:5710-1780272000-1782863999@america250al.org
SUMMARY:Auburn-Opelika Historic Trail 
DESCRIPTION:This self-guided trail highlights key locations that showcase Auburn-Opelika’s rich history\, beloved traditions\, and deep community roots. Whether you’re a first-time visitor or a lifelong resident\, the trail offers a unique way to connect with the people and places that make this area special.
URL:https://america250al.org/event/auburn-opelika-historic-trail/
CATEGORIES:Lee County
END:VEVENT
BEGIN:VEVENT
DTSTART;TZID=America/Chicago:20260622T000000
DTEND;TZID=America/Chicago:20260710T235959
DTSTAMP:20260423T233345
CREATED:20260305T165152Z
LAST-MODIFIED:20260305T165331Z
UID:5712-1782086400-1783727999@america250al.org
SUMMARY:Juried Art & Writing Exhibition *June 22 - July 10*
DESCRIPTION:The Barbara Patton Southside Center for the Arts will be hosting Declaration: an exhibition of visual and literary artists connecting Opelika/Auburn history with their life in Lee County. The exhibit will be on view June 22nd through July 10th from 8 am to 1 pm. A reception to celebrate our local arts will be held on July 2nd from 5:30 to 7 pm. Click above for more info.
URL:https://america250al.org/event/juried-art-writing-exhibition-june-22-july-10/
CATEGORIES:Lee County
END:VEVENT
BEGIN:VEVENT
DTSTART;TZID=America/Chicago:20260625T000000
DTEND;TZID=America/Chicago:20260627T235959
DTSTAMP:20260423T233345
CREATED:20260416T203546Z
LAST-MODIFIED:20260417T192331Z
UID:6027-1782345600-1782604799@america250al.org
SUMMARY:1776 The Musical
DESCRIPTION:Come see the musical that tells the story of how the Declaration of Independence came to be! \n\n\n\nJune 25\, 26\, & 27\, 2025 – 7 pm
URL:https://america250al.org/event/1776-the-musical-2/
CATEGORIES:Blount County
END:VEVENT
BEGIN:VEVENT
DTSTART;TZID=America/Chicago:20260625T000000
DTEND;TZID=America/Chicago:20260628T235959
DTSTAMP:20260423T233345
CREATED:20251017T151058Z
LAST-MODIFIED:20251017T151100Z
UID:4764-1782345600-1782691199@america250al.org
SUMMARY:Helen Keller Festival
DESCRIPTION:Thursday\, June 25 6PM-8PM | Friday\, June 26 3PM-10PM | Saturday\, June 27 12PM-10PM | Sunday\, June 28 5PM-9PM \n\n\n\nFree on June 25 and June 28. $5 per day on June 26 and June 27 \n\n\n\nFacebook Page: https://www.facebook.com/helenkellerfestival
URL:https://america250al.org/event/helen-keller-festival/
LOCATION:Spring Park\, Spring Park Road\, Tuscumbia\, 35674\, United States
CATEGORIES:Colbert County
ATTACH;FMTTYPE=image/jpeg:https://america250al.org/wp-content/uploads/2025/10/HKF-2026-logo.jpg
END:VEVENT
BEGIN:VEVENT
DTSTART;TZID=America/Chicago:20260626T000000
DTEND;TZID=America/Chicago:20260628T235959
DTSTAMP:20260423T233345
CREATED:20260129T221724Z
LAST-MODIFIED:20260129T221726Z
UID:5390-1782432000-1782691199@america250al.org
SUMMARY:1776!
DESCRIPTION:Music and Lyrics by Sherman EdwardsBook by Peter Stone \n\n\n\nDirected by Leslie Gates \n\n\n\nJune 12-14\, 18-21\, 26-28Von Braun Center Playhouse\, 700 Monroe St\, Huntsville\, AL 35801Tickets $30-32\, group rates availablehttp://www.THTix.com or 256-536-0807 \n\n\n\nOne bold act can change the course of history.The fight for independence has never been more thrilling than in 1776! This Tony Award-winning musical brings history to life with sharp wit\, stirring songs\, and a behind-the-scenes look at the passionate (and often chaotic) debates that led to the signing of the Declaration of Independence. John Adams\, Benjamin Franklin\, and Thomas Jefferson battle deadlines\, doubts\, and each other in a race to forge a nation—proving that revolution is anything but easy.
URL:https://america250al.org/event/1776-3/
LOCATION:Von Braun Center Playhouse\, 700 Monroe St\, Huntsville\, 35801\, United States
CATEGORIES:Madison County
ATTACH;FMTTYPE=image/png:https://america250al.org/wp-content/uploads/2026/01/1776-cover-art.png
END:VEVENT
BEGIN:VEVENT
DTSTART;TZID=America/Chicago:20260627T000000
DTEND;TZID=America/Chicago:20260628T235959
DTSTAMP:20260423T233345
CREATED:20260225T163023Z
LAST-MODIFIED:20260225T163026Z
UID:5615-1782518400-1782691199@america250al.org
SUMMARY:Liberty Day Festival
DESCRIPTION:Columbiana’s Liberty Day began in 1986 as a celebration of the statue of Liberty. Over the course of almost 40 years\, it has evolved into a 2 day\, family friendly event with a 5K race\, live music on three stages\, arts and crafts vendors\, a free kids activities area\, a Main Street parade\, National Headliner bands\, and a phenomenal fireworks show. Liberty Day is made possible because of the City of Columbiana and our many sponsors. Columbiana looks forward to seeing the thousands of visitors from across Alabama that come to join in this celebration every year. We hope you will be one of them!
URL:https://america250al.org/event/liberty-day-festival/
CATEGORIES:Shelby County
END:VEVENT
BEGIN:VEVENT
DTSTART;TZID=America/Chicago:20260627T110000
DTEND;TZID=America/Chicago:20260627T120000
DTSTAMP:20260423T233345
CREATED:20260202T185010Z
LAST-MODIFIED:20260227T201854Z
UID:5415-1782558000-1782561600@america250al.org
SUMMARY:July 4th Kickoff Parade and Celebration
DESCRIPTION:The parade will start at 10:00 am on Tingle Tangle Rd and end at the Vance Activity Center (17710 Vance Municipal Drive) where we will serve free food! Parade can include floats\, cars\, motorcycles\, golf carts\, ATV’s\, bicycles\, and animals.
URL:https://america250al.org/event/july-4th-kickoff-parade-and-celebration/
CATEGORIES:Tuscaloosa County
END:VEVENT
BEGIN:VEVENT
DTSTART;TZID=America/Chicago:20260627T140000
DTEND;TZID=America/Chicago:20260627T210000
DTSTAMP:20260423T233345
CREATED:20260325T182553Z
LAST-MODIFIED:20260325T182556Z
UID:5871-1782568800-1782594000@america250al.org
SUMMARY:Rehobeth Red White & Boom
DESCRIPTION:7th Annual Rehobeth Red White & Boom CelebrationHometown Independence Day Celebration set for Saturday June 27th in Rehobeth AlabamaRehobeth\, Alabama – On Saturday\, June 27\, 2026\, the Town of Rehobeth will host the 7th Annual Rehobeth Red White & Boom Independence Day Celebration at Rehobeth High School Stadium from 2:00 PM to 9:00 PM. This year’s event is especially meaningful as it also serves as part of the nationwide America 250 Celebration\, commemorating the 250th anniversary of the founding of the United States.We are excited to celebrate the seventh year of Red White & Boom in Rehobeth — our own hometown Independence Day tradition. Last year\, an estimated crowd of more than 10\,000 people from across the Wiregrass attended the festival. This year’s celebration will feature over 40 craft and retail vendors\, a free kids’ inflatable park\, face painting\, kids’ crafts\, more than 15 food vendors\, free parking\, live entertainment on two stages\, and a spectacular fireworks display to close out the night.As part of the America 250 observance\, this year’s celebration will place special emphasis on honoring our nation’s history\, celebrating community pride\, and recognizing the shared values that unite us as Americans and as neighbors here in Rehobeth.Red White & Boom is one of the most fun and family-friendly nights of the year in Rehobeth. More information will be announced soon\, including featured artists and live entertainment\, a full schedule of events\, website updates\, and additional activities tied to the America 250 celebration.Follow us on social media for updates and event details\, or visit: http://www.rehobethredwhiteboom.com
URL:https://america250al.org/event/rehobeth-red-white-boom/
LOCATION:Rehobeth High School Stadium\, 373 Malvern Rd\, Rehobeth\, 36301\, United States
CATEGORIES:Houston County
ATTACH;FMTTYPE=image/png:https://america250al.org/wp-content/uploads/2026/03/Red-White-and-Boom.png
END:VEVENT
BEGIN:VEVENT
DTSTART;TZID=America/Chicago:20260627T180000
DTEND;TZID=America/Chicago:20260627T200000
DTSTAMP:20260423T233345
CREATED:20250627T182224Z
LAST-MODIFIED:20250627T182227Z
UID:4306-1782583200-1782590400@america250al.org
SUMMARY:Bobby Horton
DESCRIPTION:Renowned musician and producer Bobby Horton\, an Alabama native who has worked extensively with Ken Burns and PBS\, will perform on Saturday\, June 27 at 6 p.m at the Wetumpka Civic Center for our final Elmore County 250 celebration.
URL:https://america250al.org/event/bobby-horton/
LOCATION:Wetumpka Civic Center\, 410 S Main St\,\, Wetumpka\, 36092\, United States
CATEGORIES:Elmore County
ATTACH;FMTTYPE=image/jpeg:https://america250al.org/wp-content/uploads/2025/06/Bobby-Horton.jpg
ORGANIZER;CN="Sharon Fox":MAILTO:elmorecountymuseum@gmail.com
END:VEVENT
END:VCALENDAR