BEGIN:VCALENDAR
VERSION:2.0
PRODID:-//America250AL - ECPv6.15.20//NONSGML v1.0//EN
CALSCALE:GREGORIAN
METHOD:PUBLISH
X-ORIGINAL-URL:https://america250al.org
X-WR-CALDESC:Events for America250AL
REFRESH-INTERVAL;VALUE=DURATION:PT1H
X-Robots-Tag:noindex
X-PUBLISHED-TTL:PT1H
BEGIN:VTIMEZONE
TZID:America/Chicago
BEGIN:DAYLIGHT
TZOFFSETFROM:-0600
TZOFFSETTO:-0500
TZNAME:CDT
DTSTART:20250309T080000
END:DAYLIGHT
BEGIN:STANDARD
TZOFFSETFROM:-0500
TZOFFSETTO:-0600
TZNAME:CST
DTSTART:20251102T070000
END:STANDARD
BEGIN:DAYLIGHT
TZOFFSETFROM:-0600
TZOFFSETTO:-0500
TZNAME:CDT
DTSTART:20260308T080000
END:DAYLIGHT
BEGIN:STANDARD
TZOFFSETFROM:-0500
TZOFFSETTO:-0600
TZNAME:CST
DTSTART:20261101T070000
END:STANDARD
BEGIN:DAYLIGHT
TZOFFSETFROM:-0600
TZOFFSETTO:-0500
TZNAME:CDT
DTSTART:20270314T080000
END:DAYLIGHT
BEGIN:STANDARD
TZOFFSETFROM:-0500
TZOFFSETTO:-0600
TZNAME:CST
DTSTART:20271107T070000
END:STANDARD
BEGIN:DAYLIGHT
TZOFFSETFROM:-0600
TZOFFSETTO:-0500
TZNAME:CDT
DTSTART:20280312T080000
END:DAYLIGHT
BEGIN:STANDARD
TZOFFSETFROM:-0500
TZOFFSETTO:-0600
TZNAME:CST
DTSTART:20281105T070000
END:STANDARD
END:VTIMEZONE
BEGIN:VEVENT
DTSTART;TZID=America/Chicago:20260121T000000
DTEND;TZID=America/Chicago:20261231T235959
DTSTAMP:20260424T040724
CREATED:20260121T171821Z
LAST-MODIFIED:20260129T151616Z
UID:5233-1768953600-1798761599@america250al.org
SUMMARY:Finding the Lost Patriots of Madison County *ONGOING*
DESCRIPTION:This is an ongoing project for 2026. Finding the Lost Patriots of Madison County continues the work of the patriotic citizens that have gone before us who have identified and marked Patriot burial sites. Our goal is to identify and properly mark the final resting places of the Patriots that lived and died in Madison County\, Alabama.
URL:https://america250al.org/event/finding-the-lost-patriots-of-madison-county/
CATEGORIES:Madison County
ATTACH;FMTTYPE=image/jpeg:https://america250al.org/wp-content/uploads/2026/01/Headstone-scaled.jpg
END:VEVENT
BEGIN:VEVENT
DTSTART;TZID=America/Chicago:20260130T000000
DTEND;TZID=America/Chicago:20270110T235959
DTSTAMP:20260424T040724
CREATED:20260127T194522Z
LAST-MODIFIED:20260127T194525Z
UID:5288-1769731200-1799625599@america250al.org
SUMMARY:Revolutionary Roots: Celebrating Alabama’s Unique History and Natural Beauty
DESCRIPTION:Experience Vulcan Park & Museum’s 2026 exhibition\, Revolutionary Roots: Celebrating Alabama’s Unique History and Natural Beauty\, presented in honor of the United States’ 250th anniversary as part of America250.
URL:https://america250al.org/event/revolutionary-roots-celebrating-alabamas-unique-history-and-natural-beauty/
CATEGORIES:Jefferson County
ATTACH;FMTTYPE=image/jpeg:https://america250al.org/wp-content/uploads/2026/01/Revolutionary-Roots-Celebrating-Alabamas-Unique-History-and-Natural-Beauty.jpg
END:VEVENT
BEGIN:VEVENT
DTSTART;TZID=America/Chicago:20260224T000000
DTEND;TZID=America/Chicago:20261231T235959
DTSTAMP:20260424T040724
CREATED:20260224T142848Z
LAST-MODIFIED:20260224T142851Z
UID:5564-1771891200-1798761599@america250al.org
SUMMARY:2026 Walking Tour Series *Dates in Event Details*
DESCRIPTION:Join a local guide and experience the charm of Historic Mooresville on themed historical walking tours throughout the year\, combining rich history with a leisurely stroll down our scenic\, tree-lined streets. \n\n\n\nMarch 7th – Behind the Scenes of Disney’s Tom and Huck \n\n\n\nApril 4th\, 11th\, 18th\, & 25th – Alabama Department of Tourism Saturdays in April Walking Tours\n\n\n\nMay 2nd – Hidden Spaces Garden Tour  \n\n\n\nJune 6th – Hidden Spaces Garden Tour\n\n\n\nAugust 1st – Mooresville During the Civil War – Info & ticket Sells \n\n\n\nSeptember 5th – Behind the Scenes of Disney’s Tom and Huck\n\n\n\nOctober 3rd – The Darker Side – Info & Ticket sells Coming Soon\n\n\n\nNovember 7th – Junior Historian Tour\n\n\n\nDecember 12th – Holiday Traditions – Ticket sells Coming Soon
URL:https://america250al.org/event/2026-walking-tour-series-dates-in-event-details/
CATEGORIES:Limestone County
END:VEVENT
BEGIN:VEVENT
DTSTART;TZID=America/Chicago:20260930T000000
DTEND;TZID=America/Chicago:20261006T235959
DTSTAMP:20260424T040724
CREATED:20251110T161540Z
LAST-MODIFIED:20251110T161542Z
UID:4954-1790726400-1791331199@america250al.org
SUMMARY:Tennessee Valley Old Time Fiddlers Convention
DESCRIPTION:Facebook Page: https://www.facebook.com/TNValleyFiddlersConvention
URL:https://america250al.org/event/tennessee-valley-old-time-fiddlers-convention/
LOCATION:Alabama State University Classroom Building\, 300 N Beaty St\, Athens\, 35611\, United States
CATEGORIES:Mobile County
ATTACH;FMTTYPE=image/jpeg:https://america250al.org/wp-content/uploads/2025/11/Tennessee-Valley-Fiddlers-Convention.jpg.jpeg
END:VEVENT
BEGIN:VEVENT
DTSTART;TZID=America/Chicago:20261001T000000
DTEND;TZID=America/Chicago:20261003T235959
DTSTAMP:20260424T040724
CREATED:20260209T152249Z
LAST-MODIFIED:20260209T152252Z
UID:5448-1790812800-1791071999@america250al.org
SUMMARY:Moundville Native American Festival
DESCRIPTION:Festival hours are 9:00 a.m. to 3:00 p.m. on Thursday and 9:00 a.m. to 4:00 p.m. on Friday and Saturday.Join Moundville Archaeological Park from October 1-3\, 2026 for the Moundville Native American Festival! Bring your family and friends to meet Native American artisans\, see traditional dances\, listen to stories and music\, and support local and Native American businesses at an ancient city on the Black Warrior River. \n\n\n\nAdmission is $10 at the gate for adults\, students\, and seniors. Children 5-years-old and under are free. \n\n\n\nMoundville Archaeological Park is 13 miles south of Tuscaloosa off Alabama Highway 69 and the address is 634 Mound State Parkway\, Moundville\, AL 35474-6413. Information on the schedule\, performers\, demonstrators\, and vendors will be updated on our website at festival.museums.ua.edu
URL:https://america250al.org/event/moundville-native-american-festival/
CATEGORIES:Hale County
ATTACH;FMTTYPE=image/jpeg:https://america250al.org/wp-content/uploads/2026/02/Moundville-Native-American-Festival.jpg
END:VEVENT
END:VCALENDAR