BEGIN:VCALENDAR
VERSION:2.0
PRODID:-//America250AL - ECPv6.15.20//NONSGML v1.0//EN
CALSCALE:GREGORIAN
METHOD:PUBLISH
X-WR-CALNAME:America250AL
X-ORIGINAL-URL:https://america250al.org
X-WR-CALDESC:Events for America250AL
REFRESH-INTERVAL;VALUE=DURATION:PT1H
X-Robots-Tag:noindex
X-PUBLISHED-TTL:PT1H
BEGIN:VTIMEZONE
TZID:America/Chicago
BEGIN:DAYLIGHT
TZOFFSETFROM:-0600
TZOFFSETTO:-0500
TZNAME:CDT
DTSTART:20240310T080000
END:DAYLIGHT
BEGIN:STANDARD
TZOFFSETFROM:-0500
TZOFFSETTO:-0600
TZNAME:CST
DTSTART:20241103T070000
END:STANDARD
BEGIN:DAYLIGHT
TZOFFSETFROM:-0600
TZOFFSETTO:-0500
TZNAME:CDT
DTSTART:20250309T080000
END:DAYLIGHT
BEGIN:STANDARD
TZOFFSETFROM:-0500
TZOFFSETTO:-0600
TZNAME:CST
DTSTART:20251102T070000
END:STANDARD
BEGIN:DAYLIGHT
TZOFFSETFROM:-0600
TZOFFSETTO:-0500
TZNAME:CDT
DTSTART:20260308T080000
END:DAYLIGHT
BEGIN:STANDARD
TZOFFSETFROM:-0500
TZOFFSETTO:-0600
TZNAME:CST
DTSTART:20261101T070000
END:STANDARD
BEGIN:DAYLIGHT
TZOFFSETFROM:-0600
TZOFFSETTO:-0500
TZNAME:CDT
DTSTART:20270314T080000
END:DAYLIGHT
BEGIN:STANDARD
TZOFFSETFROM:-0500
TZOFFSETTO:-0600
TZNAME:CST
DTSTART:20271107T070000
END:STANDARD
END:VTIMEZONE
BEGIN:VEVENT
DTSTART;TZID=America/Chicago:20260217T180000
DTEND;TZID=America/Chicago:20260217T193000
DTSTAMP:20260423T161029
CREATED:20260216T193845Z
LAST-MODIFIED:20260216T193906Z
UID:5524-1771351200-1771356600@america250al.org
SUMMARY:Quilt of Souls
DESCRIPTION:Celebrate Alabama’s quilting tradition with author Phyllis Biffle Elmore and radio host Burgin Mathews \n\n\n\nIn conjunction with The March Quilts\, a local nonprofit whose annual art projects commemorate themes of civil and human rights\, author Phyllis Biffle Elmore and radio host Burgin Mathews will discuss her memoir\, Quilt of Souls. Elmore weaves back and forth through time\, telling true tales of racism\, sexism\, and colorism\, but also of strength and pride\, creating a multi-generational patchwork honoring her family and ancestors. This program will kick off a series of three community events featuring Elmore and Mathews.  
URL:https://america250al.org/event/quilt-of-souls/
LOCATION:Hoover Public Library\, 200 Municipal Dr\, Hoover\, 35216\, United States
CATEGORIES:Jefferson County
ATTACH;FMTTYPE=image/jpeg:https://america250al.org/wp-content/uploads/2026/02/QuiltofSouls_Shannon_Haddock.jpg
END:VEVENT
BEGIN:VEVENT
DTSTART;TZID=America/Chicago:20260207T000000
DTEND;TZID=America/Chicago:20260207T235959
DTSTAMP:20260423T161029
CREATED:20251110T164506Z
LAST-MODIFIED:20251110T164508Z
UID:4992-1770422400-1770508799@america250al.org
SUMMARY:USS Alabama Battleship Living History Crew Drill
DESCRIPTION:Facebook Page: https://www.facebook.com/USSALABAMABattleshipMemorialPark/
URL:https://america250al.org/event/uss-alabama-battleship-living-history-crew-drill/
CATEGORIES:Mobile County
ATTACH;FMTTYPE=image/jpeg:https://america250al.org/wp-content/uploads/2025/11/Living-History-Crew-Drill.jpg
END:VEVENT
BEGIN:VEVENT
DTSTART;TZID=America/Chicago:20260205T143000
DTEND;TZID=America/Chicago:20260205T160000
DTSTAMP:20260423T161029
CREATED:20260116T173753Z
LAST-MODIFIED:20260116T173902Z
UID:5210-1770301800-1770307200@america250al.org
SUMMARY:Discovering Mary Katharine Goddard
DESCRIPTION:Discover the woman who printed the first edition of the Declaration of Independence with the names of the signers.The Continental Congress commissioned this edition in 1777. She signed her name to the bottom of the document as the printer.Come learn about the person behind the persona of Mary Katharine Goddard. \n\n\n\nThis is a free author event. She will share the research on Mary Katharine Goddard that led to her new historical fiction novel about the woman who printed and signed the first copy of the Declaration of Independence complete with all of the signers’ names. The program will start at 2:30pm in the Community Room at Decatur Public Library.
URL:https://america250al.org/event/discovering-mary-katharine-goddard/
LOCATION:Community Room at Decatur Public Library\, 504 Cherry St NE\, Decatur\, 35601\, United States
CATEGORIES:Morgan County
ATTACH;FMTTYPE=image/png:https://america250al.org/wp-content/uploads/2026/01/Betty-Bolte-FEB2026-3fe1b2f5106bd075b082e9410240d8eb.png
END:VEVENT
BEGIN:VEVENT
DTSTART;TZID=America/Chicago:20260130T000000
DTEND;TZID=America/Chicago:20260217T235959
DTSTAMP:20260423T161029
CREATED:20251110T162108Z
LAST-MODIFIED:20251110T162111Z
UID:4964-1769731200-1771372799@america250al.org
SUMMARY:Mobile Mardi Gras Season
DESCRIPTION:Parades are free to attend \n\n\n\nFacebook Page: https://www.facebook.com/VisitMobile/
URL:https://america250al.org/event/mobile-mardi-gras-season/
LOCATION:Downtown Mobile
CATEGORIES:Mobile County
ATTACH;FMTTYPE=image/jpeg:https://america250al.org/wp-content/uploads/2025/11/MardiGras-Mobile.jpg
END:VEVENT
BEGIN:VEVENT
DTSTART;TZID=America/Chicago:20260129T083000
DTEND;TZID=America/Chicago:20260129T103000
DTSTAMP:20260423T161029
CREATED:20260127T144745Z
LAST-MODIFIED:20260127T144749Z
UID:5245-1769675400-1769682600@america250al.org
SUMMARY:JustServe at the Heart of Alabama Food Bank
DESCRIPTION:In honor of America’s 250th anniversary of the signing of the Declaration of Independence\, 250 semi trucks loaded down with 40\,000 lbs of food are heading out across the United States. Montgomery\, Alabama is being blessed with one of those trucks! The truck will be delivered to the Heart of Alabama Food Bank (HAFB). We have created a volunteer opportunity from 8:30-10:30 on January 29\, 2026 to help pack food into boxes that will be distributed to our friends and neighbors throughout the river region. Please be there between 8-8:15. Please use the following link from HAFB to register prior to this event. We only need 12 more volunteers so register soon. https://vhub.at/LDSserve We\, JustServe and America250 want to make this a record year of service to honor our nation. Be a part of it and find an opportunity to serve. https://newsroom.churchofjesuschrist.org/article/church-america-250-service-gratitude
URL:https://america250al.org/event/justserve-at-the-heart-of-alabama-food-bank/
CATEGORIES:Montgomery County
ATTACH;FMTTYPE=image/jpeg:https://america250al.org/wp-content/uploads/2026/01/A250-Food-Truck.jpeg
END:VEVENT
BEGIN:VEVENT
DTSTART;TZID=America/Chicago:20260125T140000
DTEND;TZID=America/Chicago:20260125T160000
DTSTAMP:20260423T161029
CREATED:20260116T172701Z
LAST-MODIFIED:20260116T172808Z
UID:5197-1769349600-1769356800@america250al.org
SUMMARY:Butler County Historical & Genealogical Society's Quarterly Meeting
DESCRIPTION:The Butler County Historical & Genealogical Society will kick off the Semiquincentennial year at its next quarterly meeting on Sunday\, January 25th \, at 2:00 PM at the Beeland Park Community Center — and this one will be in full bloom! \n\n\n\nThe program will spotlight camellias and their special place in Butler County history. BCHGS will highlight stories behind Butler County’s heritage camellias and share a few fun details that add color to Greenville’s legacy as “The Camellia City.” \n\n\n\nOur featured speaker will be camellia enthusiast Stewart Tomlinson who has been showing camellias for more than 25 years. He is a member of both the Tallahassee Camellia Society and the Greenville Camellia Society and will share tips on caring for heirloom varieties. \n\n\n\nThe public is warmly invited – come for the camellias\, stay for the history\, and enjoy a beautiful January afternoon celebrating what makes our community special.
URL:https://america250al.org/event/butler-county-historical-genealogical-societys-quarterly-meeting/
LOCATION:Beeland Park Community Center\, 1204 E Commerce St\, Greenville\, 36037\, United States
CATEGORIES:Butler County
ATTACH;FMTTYPE=image/png:https://america250al.org/wp-content/uploads/2026/01/BCHGS-January-Meeting-Notice-3fe1b2f5106bd075b082e9410240d8eb.png
END:VEVENT
BEGIN:VEVENT
DTSTART;TZID=America/Chicago:20260124T000000
DTEND;TZID=America/Chicago:20260125T235959
DTSTAMP:20260423T161029
CREATED:20260116T173340Z
LAST-MODIFIED:20260116T173342Z
UID:5207-1769212800-1769385599@america250al.org
SUMMARY:2026 Artisans Market
DESCRIPTION:Join us in historic Greenville\, Alabama\, on Saturday\, January 24th\, and Sunday\, January 25th\, for the Greenville Camellia Society’s 2026 Artisans Market. The event will be held at the Beeland Park Community Center each day from 10:00 – 4:00. Artisans will have an amazing variety of crafts and unique one-of-a kind items for sale. There will be something for everyone including guest speakers and exhibits. \n\n\n\nThe Greenville Camellia Society is proud to have the support of the Alabama State Council on the Arts for the 2026 Artisans Market. Make plans now to join us for this wonderful celebration of art and community!
URL:https://america250al.org/event/2026-artisans-market/
CATEGORIES:Butler County
ATTACH;FMTTYPE=image/jpeg:https://america250al.org/wp-content/uploads/2026/01/Artisans-Ad-3fe1b2f5106bd075b082e9410240d8eb.jpg
END:VEVENT
BEGIN:VEVENT
DTSTART;TZID=America/Chicago:20260124T000000
DTEND;TZID=America/Chicago:20260125T235959
DTSTAMP:20260423T161029
CREATED:20260116T173131Z
LAST-MODIFIED:20260116T173133Z
UID:5202-1769212800-1769385599@america250al.org
SUMMARY:Greenville Camellia Show
DESCRIPTION:The Greenville Camellia Society will be kicking off 2026 with a special event honoring the history and heritage of “The Camellia City.” Make plans now to attend the Third Annual Greenville Camellia Show on Saturday\, January 24th and Sunday\, January 25th from 1- 4 PM. \n\n\n\nCome to the LBW Community College Campus in historic Greenville\, Alabama and see the magnificent displays of beautiful camellia blooms. Many varieties of camellia plants will also be for sale. The Camellia Show is one of the most exciting events held in Greenville drawing thousands of visitors each year. Admission is free. \n\n\n\nThe public is invited to enter camellia flowers from their own gardens. It’s easy – just bring your blooms to LBW on Saturday\, January 24th from 8 – 10 AM. Compete for top honors and win cash prizes and ribbons! It’s a once in a year event and not to be missed. You’re guaranteed to be amazed! \n\n\n\nThe Greenville Camellia Society is proud to have the support of the Poarch Creek Indians as a major sponsor of the 2026 Greenville Camellia Show.
URL:https://america250al.org/event/greenville-camellia-show/
LOCATION:LBW Community College Campus\, 750 Greenville Bypass #1 # A\, Greenville\, 36037\, United States
CATEGORIES:Butler County
ATTACH;FMTTYPE=image/png:https://america250al.org/wp-content/uploads/2026/01/GCS-Show-Ad-3fe1b2f5106bd075b082e9410240d8eb.png
END:VEVENT
BEGIN:VEVENT
DTSTART;TZID=America/Chicago:20260111T143000
DTEND;TZID=America/Chicago:20260111T163000
DTSTAMP:20260423T161029
CREATED:20250627T180332Z
LAST-MODIFIED:20250627T180429Z
UID:4278-1768141800-1768149000@america250al.org
SUMMARY:The Continental Navy during the Revolutionary War
DESCRIPTION:The event will be held at 2:30 p.m. on the second floor of the City of Wetumpka’s Administration Building at 408 S Main Street.
URL:https://america250al.org/event/the-continental-navy-during-the-revolutionary-war/
LOCATION:City of Wetumpka’s Administration Building\, 408 S Main St\, Wetumpka\, 36092\, United States
CATEGORIES:Elmore County
ATTACH;FMTTYPE=image/jpeg:https://america250al.org/wp-content/uploads/2025/06/Continental-Navy.jpg
ORGANIZER;CN="Sharon Fox":MAILTO:elmorecountymuseum@gmail.com
END:VEVENT
BEGIN:VEVENT
DTSTART;TZID=America/Chicago:20260110T000000
DTEND;TZID=America/Chicago:20260111T235959
DTSTAMP:20260423T161029
CREATED:20250924T154337Z
LAST-MODIFIED:20250924T154345Z
UID:4647-1768003200-1768175999@america250al.org
SUMMARY:"Battle at the Village" - Revolutionary War Reenactment
DESCRIPTION:Schedule of Events \n\n\n\nSaturday\, Jan. 10 \n\n\n\n10:00 AM             Infantry Drill \n\n\n\n11:00 AM             Musket Demonstration \n\n\n\n11:30 AM             Discussion: The Gulf Coast  \n\n\n\n                                 in the Revolutionary War \n\n\n\n12:00 PM             Artillery Demonstration \n\n\n\n12:30 PM             Musket Drill \n\n\n\n1:00 PM               Artillery Demonstration \n\n\n\n1:30 PM               Discussion: The Battle at the Village \n\n\n\n2:00 PM               Reeanctment of the Battle at the Village \n\n\n\nSunday\, Jan. 11 \n\n\n\n11:00 AM               Infantry and Artillery Drills \n\n\n\n11:30 AM               Discussion: The Gulf Coast in the \n\n\n\n                                  Revolutionary War \n\n\n\n12:00 PM              “Tories\, Dons\, and Rebels” skirmish \n\n\n\nEighteenth Century cooking demonstrations throughout the day on Saturday \n\n\n\nThe Spanish Fort Masonic Lodge will be on hand Saturday with burgers and hot dogs.
URL:https://america250al.org/event/battle-at-the-village-revolutionary-war-reenactment/
LOCATION:Historic Blakeley State Park\, 34745 State Hwy 225\, Spanish Fort\, 36527\, United States
CATEGORIES:Baldwin County
ATTACH;FMTTYPE=image/jpeg:https://america250al.org/wp-content/uploads/2025/09/Blakeley-Park-Rev-War-Reenactment-flyer-.jpg
END:VEVENT
BEGIN:VEVENT
DTSTART;TZID=America/Chicago:20251214T143000
DTEND;TZID=America/Chicago:20251214T163000
DTSTAMP:20260423T161029
CREATED:20250627T181336Z
LAST-MODIFIED:20250627T213054Z
UID:4292-1765722600-1765729800@america250al.org
SUMMARY:18th Century Christmas
DESCRIPTION:Celebrate the season with a lovely 18th century Christmas program\, presented by the Elmore County Historical Society\, Elmore County 250’s anchor organization. It will be held on Sunday\, December 14 at 2:30 p.m. at the Elmore County Museum at 112 S Main\, Wetumpka\, AL 36092.
URL:https://america250al.org/event/christmas-program/
LOCATION:Elmore County Museum\, 112 S Main\, Wetumpka\, 36092\, United States
CATEGORIES:Elmore County
ATTACH;FMTTYPE=image/jpeg:https://america250al.org/wp-content/uploads/2025/06/images.jpg
ORGANIZER;CN="Sharon Fox":MAILTO:elmorecountymuseum@gmail.com
END:VEVENT
BEGIN:VEVENT
DTSTART;TZID=America/Chicago:20251206T180000
DTEND;TZID=America/Chicago:20251206T200000
DTSTAMP:20260423T161029
CREATED:20251006T191604Z
LAST-MODIFIED:20251006T191608Z
UID:4702-1765044000-1765051200@america250al.org
SUMMARY:December 6th in Wilson Park
DESCRIPTION:Florence Parks & recreation will light up the park in Red\, White and Blue. Mars Hill Bible Middle School students will entertain everyone with Christmas carols and the Florence Library will host a Bike Parade in the 250th theme. Please come join in the fun.
URL:https://america250al.org/event/december-6th-in-wilson-park/
LOCATION:Wilson Park\, 416 N Seminary St\, Florence\, 35630\, United States
CATEGORIES:Lauderdale County
END:VEVENT
BEGIN:VEVENT
DTSTART;TZID=America/Chicago:20251121T190000
DTEND;TZID=America/Chicago:20251121T190000
DTSTAMP:20260423T161029
CREATED:20251118T150011Z
LAST-MODIFIED:20251118T150014Z
UID:5022-1763751600-1763751600@america250al.org
SUMMARY:Birmingham Bulls Military Night
DESCRIPTION:Birmingham Bulls vs. Fayetteville Marksmen \n\n\n\nFirst 1000  adults ages 15+ get a Bulls hat courtesy of Xcalibur Services \n\n\n\nMilitary Discount + Jersey Auction
URL:https://america250al.org/event/birmingham-bulls-military-night/
LOCATION:Pelham Civic Complex & Ice Arena  ​\, 500 Amphitheater Rd\, Pelham\, 35124\, United States
CATEGORIES:Shelby County
ATTACH;FMTTYPE=image/png:https://america250al.org/wp-content/uploads/2025/11/Birmingham-Bulls-Military-Night.png
END:VEVENT
BEGIN:VEVENT
DTSTART;TZID=America/Chicago:20251111T110000
DTEND;TZID=America/Chicago:20251111T110000
DTSTAMP:20260423T161029
CREATED:20251027T152626Z
LAST-MODIFIED:20251027T152630Z
UID:4805-1762858800-1762858800@america250al.org
SUMMARY:Florence-Lauderdale Veterans Day Ceremony
DESCRIPTION:The celebration will begin with a special Veterans Day Ceremony on Tuesday\, November 11\, 2025\, at 11:00 a.m. at Veterans Park\, hosted in collaboration with the University of North Alabama Veterans Affairs. This ceremony will serve as Florence’s first official America 250 event\, honoring local veterans and preserving their legacy through a group photo series by era of service for inclusion in the Veterans Memorial Museum archives. All veterans and community members are invited to attend. The event is FREE
URL:https://america250al.org/event/florence-lauderdale-veterans-day-ceremony/
LOCATION:Veterans Park\, Don Michael Dr\, Florence\, 35630\, United States
CATEGORIES:Lauderdale County
ATTACH;FMTTYPE=image/jpeg:https://america250al.org/wp-content/uploads/2025/10/Florence-Lauderdale-Veterans-Day-Ceremony-Graphic.jpg
END:VEVENT
BEGIN:VEVENT
DTSTART;TZID=America/Chicago:20251111T100000
DTEND;TZID=America/Chicago:20251111T130000
DTSTAMP:20260423T161029
CREATED:20250926T143607Z
LAST-MODIFIED:20250926T143615Z
UID:4655-1762855200-1762866000@america250al.org
SUMMARY:Veterans Day Celebration
DESCRIPTION:The City of Montgomery’s annual Veterans Day Celebration will be held on Tuesday\, November 11\, 2025. This year’s theme\, “Montgomery Salutes: 50 Years Later\, Never Forgotten\, Honoring our Vietnam Veterans\,” reflects our city’s deep commitment to remembering and honoring the brave men and women who answered the call of duty during the Vietnam War. The Parade will begin at 10AM followed by a Resource Fair at 12PM and end with a moving Ceremony at 1PM.
URL:https://america250al.org/event/veterans-day-celebration/
LOCATION:Court Square Fountain – Dexter Avenue\, 1 Dexter Ave\, Montgomery\, 36104\, United States
CATEGORIES:Montgomery County
ATTACH;FMTTYPE=image/jpeg:https://america250al.org/wp-content/uploads/2025/09/Montgomery-Veterans-Day.jpg
END:VEVENT
BEGIN:VEVENT
DTSTART;TZID=America/Chicago:20251108T090000
DTEND;TZID=America/Chicago:20251108T140000
DTSTAMP:20260423T161029
CREATED:20250924T154949Z
LAST-MODIFIED:20250924T154957Z
UID:4652-1762592400-1762610400@america250al.org
SUMMARY:Veteran's Day Program
DESCRIPTION:Join us for special cruises\, living history demonstrations\, guided tours\, and a lecture by a noted author! \n\n\n\nCruise $27/adults and $17/kids. General admission $5/adults and $3/kids \n\n\n\nSchedule of Events: \n\n\n\nCivil War Artillery Demonstrations \n\n\n\n9:00\, 10:00 and 11:00 AM and 12:00 PM \n\n\n\nCivil War on the Eastern Shore Cruise \n\n\n\n10:00-11:30 AM \n\n\n\nLecture by Dr. Kent Masterson Brown\, author of Meade at Gettysburg: A Study in Command \n\n\n\n12:15-1:15 PM \n\n\n\nGrave Dedication-Blakeley Cemetery \n\n\n\nWe honor the grave of athe partial remains of a soldier who fell during the siege of Spanish Fort and dedicate it as a memorial to all of those who died during the Campaign for Mobile whose final resting places are yet unmarked. \n\n\n\n1:30-1:45 PM \n\n\n\nPat Sledge Catering will be on hand with sandwiches and treats                                                                                        \n\n\n\nThis event is sponsored in part by the Pensacola Civil War Roundtable\, the Mobile Area Civil War Roundtable\, and the Alabama Tourism Department
URL:https://america250al.org/event/veterans-day-program/
LOCATION:Historic Blakeley State Park\, 34745 State Hwy 225\, Spanish Fort\, 36527\, United States
CATEGORIES:Baldwin County
ATTACH;FMTTYPE=image/jpeg:https://america250al.org/wp-content/uploads/2025/09/Blakeley-Park-Veterans-Day-Flyer-2025.jpg
END:VEVENT
BEGIN:VEVENT
DTSTART;TZID=America/Chicago:20251107T000000
DTEND;TZID=America/Chicago:20251108T235959
DTSTAMP:20260423T161029
CREATED:20251027T161759Z
LAST-MODIFIED:20251027T161800Z
UID:4854-1762473600-1762646399@america250al.org
SUMMARY:Moss Rock Festival/Beer Garden Tasting Event
DESCRIPTION:November 7 10:00AM-5:00PM | November 8 10:00AM-4:00PM \n\n\n\nMoss Rock Festival: $12 Advance / $15 at Gate (includes entry Sat & Sun)Beer Garden craft tasting event: $25 Advance / $45 at Gate (includes Festival entry Sat & Sun) \n\n\n\nSet at the Hoover Metropolitan Complex\, Moss Rock Festival is the only fall festival of its kind in the region exploring Nature\, Art + Design\, Smart Living\, and eco-creativity. Discover juried artists and +Design artisans inspired by nature; local goods for the home\, body\, and health at the Smart Living Market; Curated art exhibitions; Planet Project school installations; sustainability initiatives; the WonderKid Studios; plus live performances on stage\, food trucks\, and the 15th annual Beer Garden craft tasting event. MRF illustrates how art\, design\, and smart living can positively impact and influence our everyday choices\, lifestyle\, sustainability\, plus appreciation and enjoyment of nature and the outdoors. \n\n\n\nMoss Rock Festival Facebook Page: https://www.facebook.com/mossrockfestival/ \n\n\n\nBeer Garden Tasting Event Facebook Page: https://www.facebook.com/MossRockBeerGarden/
URL:https://america250al.org/event/moss-rock-festival-beer-garden-tasting-event/
LOCATION:Hoover Metropolitan Complex\, 5508 Stadium Trace Pkwy\, Hoover\, 35244\, United States
CATEGORIES:Jefferson County
ATTACH;FMTTYPE=image/jpeg:https://america250al.org/wp-content/uploads/2025/10/Moss-Rock-Festival.jpeg
END:VEVENT
BEGIN:VEVENT
DTSTART;TZID=America/Chicago:20251106T183000
DTEND;TZID=America/Chicago:20251106T183000
DTSTAMP:20260423T161029
CREATED:20251027T183947Z
LAST-MODIFIED:20251027T183950Z
UID:4869-1762453800-1762453800@america250al.org
SUMMARY:The Next 250: Reflecting On Our Past and Reimagining What's Next
DESCRIPTION:The Next 250: Reflecting on Our Past\, Reimagining What’s Next \n\n\n\nAs we approach the 250th anniversary of the United States\, history offers us an opportunity to reflect\, reconnect\, and reimagine the future together. \n\n\n\nIn partnership with NxtLevel\, we invite you to join us for a community gathering rooted in the power of local history and shared experience. Together\, we’ll explore the stories that have shaped us\, and the values—like respect and belonging—that can guide us forward. \n\n\n\nThis event is part of a national effort to seed meaningful and joyful conversations in the lead-up to the nation’s 250th anniversary. We’re learning what kinds of dialogue matter most to people—what feels possible\, what feels hopeful\, and how we might move through this historic moment not with fear\, but with conviction through thoughtful civic discourse. \n\n\n\nWe believe that communities like ours can lead the way. Come be part of the conversation.
URL:https://america250al.org/event/the-next-250-reflecting-on-our-past-and-reimagining-whats-next/
LOCATION:Pope’s Tavern Museum\, 203 Hermitage Drive\, Florence\, 35630\, United States
CATEGORIES:Lauderdale County
ATTACH;FMTTYPE=image/png:https://america250al.org/wp-content/uploads/2025/10/The-Next-250_Reflecting-On-Our-Past-and-Reimagining-Whats-Next-Graphic.png
END:VEVENT
BEGIN:VEVENT
DTSTART;TZID=America/Chicago:20251106T183000
DTEND;TZID=America/Chicago:20251106T183000
DTSTAMP:20260423T161029
CREATED:20251027T160110Z
LAST-MODIFIED:20251027T160113Z
UID:4832-1762453800-1762453800@america250al.org
SUMMARY:Muscle Shoals Tribute Show
DESCRIPTION:Prepare to be swept away by the iconic Muscle Shoals sound at a one-night-only tribute concert on November 6\, 2025\, at the historic Ritz Theatre in Sheffield\, Alabama. This unforgettable event celebrates the legendary music that has shaped pop\, soul\, and rock\, honoring the region’s profound influence on American culture. The evening will feature a special performance by Eve Graham\, the renowned Scottish singer and former lead vocalist of The New Seekers. Graham will perform the timeless hit “I’d Like to Teach the World to Sing\,” famously associated with Coca-Cola’s iconic 1970s campaign. Adding to the historic significance\, Graham will also record in one of Muscle Shoals’ legendary studios during her visit—contributing a new chapter to the area’s storied musical legacy. This tribute show is a vibrant celebration of the rhythms and melodies that have defined the nation’s cultural identity. Honoring the soul of American music\, the concert amplifies the sounds that have shaped the American spirit over 250 years.
URL:https://america250al.org/event/muscle-shoals-tribute-show/
LOCATION:The Ritz Theatre\, 111 Third Street\, Sheffield\, 35660\, United States
CATEGORIES:Colbert County
ATTACH;FMTTYPE=image/jpeg:https://america250al.org/wp-content/uploads/2025/10/Muscle-Shoals-Tribute-Show.jpg
END:VEVENT
BEGIN:VEVENT
DTSTART;TZID=America/Chicago:20251104T100000
DTEND;TZID=America/Chicago:20251104T100000
DTSTAMP:20260423T161029
CREATED:20251029T193012Z
LAST-MODIFIED:20251029T193014Z
UID:4885-1762250400-1762250400@america250al.org
SUMMARY:Celebrate America 250
DESCRIPTION:
URL:https://america250al.org/event/celebrate-america-250/
LOCATION:Woodland High School\, 24574 Hwy 48\, Woodland\, 36280\, United States
CATEGORIES:Randolph County
ATTACH;FMTTYPE=image/png:https://america250al.org/wp-content/uploads/2025/10/Woodland-High-School_Celebrate-America-250.png
END:VEVENT
END:VCALENDAR